BEGIN:VCALENDAR
PRODID:-//github.com/rianjs/ical.net//NONSGML ical.net 4.0//EN
VERSION:2.0
BEGIN:VTIMEZONE
TZID:Pacific Standard Time
X-LIC-LOCATION:America/Los_Angeles
BEGIN:STANDARD
DTSTART:20241103T020000
RRULE:FREQ=YEARLY;BYDAY=1SU;BYMONTH=11
TZNAME:PST
TZOFFSETFROM:-0700
TZOFFSETTO:-0800
END:STANDARD
BEGIN:DAYLIGHT
DTSTART:20250309T020000
RRULE:FREQ=YEARLY;BYDAY=2SU;BYMONTH=3
TZNAME:PDT
TZOFFSETFROM:-0800
TZOFFSETTO:-0700
END:DAYLIGHT
END:VTIMEZONE
BEGIN:VEVENT
DESCRIPTION:Training dates: Mar. 18-20 & 23-25\, 2026 | 8a - 12:30p
DTEND;TZID=Pacific Standard Time:20260318T123000
DTSTAMP:20260422T090110Z
DTSTART;TZID=Pacific Standard Time:20260318T080000
LOCATION:Virtual class link will be sent to registrants prior to first cla
 ss.
ORGANIZER;CN=;SENT-BY="mailto:":
SEQUENCE:0
SUMMARY:Oregon Life Sciences: Design of Experiments
UID:e6845bec-aa0d-4549-b5ea-7d5c2ed117a0
END:VEVENT
END:VCALENDAR
